BEGIN:VCALENDAR
PRODID:-//Solspace/Calendar 2.x//EN
VERSION:2.0
CALSCALE:GREGORIAN
BEGIN:VEVENT
UID:a5e834257dc88ddb7a91519ce22a715b@solspace.com
DTSTAMP:20260419T145904
DTSTART:20250611T090000
DTEND:20250611T110000
SUMMARY:Arts\, Culture\, and Creative Economy Council (ACCE) Meeting
END:VEVENT
END:VCALENDAR
